BEGIN:VCALENDAR
PRODID:-//spiritec//spiritec media library//EN
VERSION:2.0
METHOD:PUBLISH
BEGIN:VEVENT
UID:ical-2025-01-03-1856
DTSTART:20250103T143000Z
DTSTAMP:20260424T194925Z
LOCATION:Aalto-Foyer
SUMMARY:Öffentliche Theaterführung
DESCRIPTION:Aalto-Theater\nOpernplatz 10\n45128 Essen
CREATED:20260424T194925Z
DTEND:20250103T163000Z
END:VEVENT
END:VCALENDAR
