BEGIN:VCALENDAR
PRODID:-//spiritec//spiritec media library//EN
VERSION:2.0
METHOD:PUBLISH
BEGIN:VEVENT
UID:ical-2025-06-29-2154
DTSTART:20250629T143000Z
DTSTAMP:20260424T194802Z
LOCATION:Aalto-Theater
SUMMARY:Der Rosenkavalier
DESCRIPTION:Aalto-Theater\nOpernplatz 10\n45128 Essen
CREATED:20260424T194802Z
DTEND:20250629T185500Z
END:VEVENT
END:VCALENDAR
