BEGIN:VCALENDAR
PRODID:-//spiritec//spiritec media library//EN
VERSION:2.0
METHOD:PUBLISH
BEGIN:VEVENT
UID:ical-2024-06-08-2181
DTSTART:20240607T220000Z
DTSTAMP:20260424T194802Z
LOCATION:Deutsches Theater Berlin
SUMMARY:Doktormutter Faust
DESCRIPTION:
CREATED:20260424T194802Z
DTEND:20240608T215900Z
END:VEVENT
END:VCALENDAR
