BEGIN:VCALENDAR
PRODID:-//spiritec//spiritec media library//EN
VERSION:2.0
METHOD:PUBLISH
BEGIN:VEVENT
UID:ical-2023-11-30-2290
DTSTART:20231130T150000Z
DTSTAMP:20260424T194800Z
LOCATION:Aalto-Theater
SUMMARY:Tatort Ehe – Clara und Robert Schumann
DESCRIPTION:Aalto-Theater\nOpernplatz 10\n45128 Essen
CREATED:20260424T194800Z
DTEND:20231130T225900Z
END:VEVENT
END:VCALENDAR
