BEGIN:VCALENDAR
PRODID:-//spiritec//spiritec media library//EN
VERSION:2.0
METHOD:PUBLISH
BEGIN:VEVENT
UID:ical-2024-10-03-2396
DTSTART:20241003T170000Z
DTSTAMP:20260424T195155Z
LOCATION:Café Central
SUMMARY:Common Ground Wiedervereinigung: \nGeteilte Narrative
DESCRIPTION:Das Café Central befindet sich im Grillo-Theater.\n\nGrillo-Theater\nTheaterplatz 11 \n45127 Essen
CREATED:20260424T195155Z
DTEND:20241003T170000Z
END:VEVENT
END:VCALENDAR
