BEGIN:VCALENDAR
PRODID:-//spiritec//spiritec media library//EN
VERSION:2.0
METHOD:PUBLISH
BEGIN:VEVENT
UID:ical-2024-10-24-2401
DTSTART:20241024T173000Z
DTSTAMP:20260424T194908Z
LOCATION:Grillo-Theater
SUMMARY:Der Reisende
DESCRIPTION:Grillo-Theater\nTheaterplatz 11 \n45127 Essen
CREATED:20260424T194908Z
DTEND:20241024T202000Z
END:VEVENT
END:VCALENDAR
