BEGIN:VCALENDAR
PRODID:-//spiritec//spiritec media library//EN
VERSION:2.0
METHOD:PUBLISH
BEGIN:VEVENT
UID:ical-2024-10-25-2402
DTSTART:20241025T173000Z
DTSTAMP:20260424T194909Z
LOCATION:Grillo-Theater
SUMMARY:Hamlet/Ophelia
DESCRIPTION:Grillo-Theater\nTheaterplatz 11 \n45127 Essen
CREATED:20260424T194909Z
DTEND:20241025T202000Z
END:VEVENT
END:VCALENDAR
