BEGIN:VCALENDAR
PRODID:-//spiritec//spiritec media library//EN
VERSION:2.0
METHOD:PUBLISH
BEGIN:VEVENT
UID:ical-2024-10-08-2405
DTSTART:20241008T180000Z
DTSTAMP:20260424T195117Z
LOCATION:Café Central
SUMMARY:Lesart
DESCRIPTION:Das Café Central befindet sich im Grillo-Theater.\n\nGrillo-Theater\nTheaterplatz 11 \n45127 Essen
CREATED:20260424T195117Z
DTEND:20241008T180000Z
END:VEVENT
END:VCALENDAR
