BEGIN:VCALENDAR
PRODID:-//spiritec//spiritec media library//EN
VERSION:2.0
METHOD:PUBLISH
BEGIN:VEVENT
UID:ical-2024-10-23-2414
DTSTART:20241023T130000Z
DTSTAMP:20260424T195117Z
LOCATION:Treffpunkt: Haupteingang Grillo-Theater
SUMMARY:Herbstferienworkshop "Queere Realitäten"
DESCRIPTION:
CREATED:20260424T195117Z
DTEND:20241023T130000Z
END:VEVENT
END:VCALENDAR
