BEGIN:VCALENDAR
PRODID:-//spiritec//spiritec media library//EN
VERSION:2.0
METHOD:PUBLISH
BEGIN:VEVENT
UID:ical-2024-10-24-2415
DTSTART:20241024T130000Z
DTSTAMP:20260424T194908Z
LOCATION:Treffpunkt: Haupteingang Grillo-Theater
SUMMARY:Herbstferienworkshop "Queere Realitäten"
DESCRIPTION:
CREATED:20260424T194908Z
DTEND:20241024T130000Z
END:VEVENT
END:VCALENDAR
