BEGIN:VCALENDAR
PRODID:-//spiritec//spiritec media library//EN
VERSION:2.0
METHOD:PUBLISH
BEGIN:VEVENT
UID:ical-2024-10-25-2416
DTSTART:20241025T130000Z
DTSTAMP:20260424T195112Z
LOCATION:Treffpunkt: Haupteingang Grillo-Theater
SUMMARY:Herbstferienworkshop "Queere Realitäten"
DESCRIPTION:
CREATED:20260424T195112Z
DTEND:20241025T130000Z
END:VEVENT
END:VCALENDAR
