BEGIN:VCALENDAR
PRODID:-//spiritec//spiritec media library//EN
VERSION:2.0
METHOD:PUBLISH
BEGIN:VEVENT
UID:ical-2024-09-21-2420
DTSTART:20240921T110000Z
DTSTAMP:20260424T195113Z
LOCATION:Café Central
SUMMARY:Common Ground - Autofiktionales Schreiben
DESCRIPTION:Das Café Central befindet sich im Grillo-Theater.\n\nGrillo-Theater\nTheaterplatz 11 \n45127 Essen
CREATED:20260424T195113Z
DTEND:20240921T110000Z
END:VEVENT
END:VCALENDAR
