BEGIN:VCALENDAR
PRODID:-//spiritec//spiritec media library//EN
VERSION:2.0
METHOD:PUBLISH
BEGIN:VEVENT
UID:ical-2024-09-22-2426
DTSTART:20240922T100000Z
DTSTAMP:20260424T195230Z
LOCATION:Theatervorplatz
SUMMARY:COMMON GROUND: AUS-TAUSCH-MARKT
DESCRIPTION:Theatervorplatz\nGrillo-Theater\nTheaterplatz 11\n45127 Essen
CREATED:20260424T195230Z
DTEND:20240922T100000Z
END:VEVENT
END:VCALENDAR
