BEGIN:VCALENDAR
PRODID:-//spiritec//spiritec media library//EN
VERSION:2.0
METHOD:PUBLISH
BEGIN:VEVENT
UID:ical-2024-09-21-2427
DTSTART:20240921T173000Z
DTSTAMP:20260424T195155Z
LOCATION:Grillo-Theater
SUMMARY:Common Ground: Der Reisende
DESCRIPTION:Grillo-Theater\nTheaterplatz 11 \n45127 Essen
CREATED:20260424T195155Z
DTEND:20240921T173000Z
END:VEVENT
END:VCALENDAR
