BEGIN:VCALENDAR
PRODID:-//spiritec//spiritec media library//EN
VERSION:2.0
METHOD:PUBLISH
BEGIN:VEVENT
UID:ical-2024-09-21-2428
DTSTART:20240921T173000Z
DTSTAMP:20260424T195117Z
LOCATION:Theatervorplatz
SUMMARY:COMMON GROUND: DANCE JAM
DESCRIPTION:Theatervorplatz\nGrillo-Theater\nTheaterplatz 11\n45127 Essen
CREATED:20260424T195117Z
DTEND:20240921T173000Z
END:VEVENT
END:VCALENDAR
