BEGIN:VCALENDAR
PRODID:-//spiritec//spiritec media library//EN
VERSION:2.0
METHOD:PUBLISH
BEGIN:VEVENT
UID:ical-2024-09-21-2431
DTSTART:20240921T153000Z
DTSTAMP:20260424T194950Z
LOCATION:Theatervorplatz
SUMMARY:Common Ground: Zusammen Essen
DESCRIPTION:Theatervorplatz\nGrillo-Theater\nTheaterplatz 11\n45127 Essen
CREATED:20260424T194950Z
DTEND:20240921T153000Z
END:VEVENT
END:VCALENDAR
