BEGIN:VCALENDAR
PRODID:-//spiritec//spiritec media library//EN
VERSION:2.0
METHOD:PUBLISH
BEGIN:VEVENT
UID:ical-2024-09-22-2432
DTSTART:20240922T140000Z
DTSTAMP:20260424T195046Z
LOCATION:Grillo-Theater
SUMMARY:COMMON GROUND: DER REISENDE
DESCRIPTION:Grillo-Theater\nTheaterplatz 11 \n45127 Essen
CREATED:20260424T195046Z
DTEND:20240922T140000Z
END:VEVENT
END:VCALENDAR
