BEGIN:VCALENDAR
PRODID:-//spiritec//spiritec media library//EN
VERSION:2.0
METHOD:PUBLISH
BEGIN:VEVENT
UID:ical-2024-09-27-2438
DTSTART:20240927T173000Z
DTSTAMP:20260424T195117Z
LOCATION:Aalto-Foyer
SUMMARY:Foyergeflüster – 100 % Oper
DESCRIPTION:Aalto-Theater\nOpernplatz 10\n45128 Essen
CREATED:20260424T195117Z
DTEND:20240927T173000Z
END:VEVENT
END:VCALENDAR
