BEGIN:VCALENDAR
PRODID:-//spiritec//spiritec media library//EN
VERSION:2.0
METHOD:PUBLISH
BEGIN:VEVENT
UID:ical-2024-11-05-2443
DTSTART:20241105T183000Z
DTSTAMP:20260424T195117Z
LOCATION:
SUMMARY:Pando
DESCRIPTION:
CREATED:20260424T195117Z
DTEND:20241105T225900Z
END:VEVENT
END:VCALENDAR
