BEGIN:VCALENDAR
PRODID:-//spiritec//spiritec media library//EN
VERSION:2.0
METHOD:PUBLISH
BEGIN:VEVENT
UID:ical-2024-11-11-2446
DTSTART:20241111T183000Z
DTSTAMP:20260424T194923Z
LOCATION:Café Central
SUMMARY:Content
DESCRIPTION:Das Café Central befindet sich im Grillo-Theater.\n\nGrillo-Theater\nTheaterplatz 11 \n45127 Essen
CREATED:20260424T194923Z
DTEND:20241111T225900Z
END:VEVENT
END:VCALENDAR
