BEGIN:VCALENDAR
PRODID:-//spiritec//spiritec media library//EN
VERSION:2.0
METHOD:PUBLISH
BEGIN:VEVENT
UID:ical-2024-11-30-2448
DTSTART:20241130T190000Z
DTSTAMP:20260424T194949Z
LOCATION:ADA
SUMMARY:Tabak
DESCRIPTION:Die ADA befindet sich im Grillo-Theater.\n\nGrillo-Theater\nTheaterplatz 11 \n45127 Essen
CREATED:20260424T194949Z
DTEND:20241130T203000Z
END:VEVENT
END:VCALENDAR
