BEGIN:VCALENDAR
PRODID:-//spiritec//spiritec media library//EN
VERSION:2.0
METHOD:PUBLISH
BEGIN:VEVENT
UID:ical-2024-11-22-2460
DTSTART:20241122T183000Z
DTSTAMP:20260424T195117Z
LOCATION:Grillo-Theater
SUMMARY:Hamlet/Ophelia
DESCRIPTION:Grillo-Theater\nTheaterplatz 11 \n45127 Essen
CREATED:20260424T195117Z
DTEND:20241122T212000Z
END:VEVENT
END:VCALENDAR
