BEGIN:VCALENDAR
PRODID:-//spiritec//spiritec media library//EN
VERSION:2.0
METHOD:PUBLISH
BEGIN:VEVENT
UID:ical-2024-11-03-2461
DTSTART:20241103T150000Z
DTSTAMP:20260424T195154Z
LOCATION:Grillo-Theater
SUMMARY:Hamlet/Ophelia
DESCRIPTION:Grillo-Theater\nTheaterplatz 11 \n45127 Essen
CREATED:20260424T195154Z
DTEND:20241103T175000Z
END:VEVENT
END:VCALENDAR
