BEGIN:VCALENDAR
PRODID:-//spiritec//spiritec media library//EN
VERSION:2.0
METHOD:PUBLISH
BEGIN:VEVENT
UID:ical-2024-11-02-2462
DTSTART:20241102T183000Z
DTSTAMP:20260424T195230Z
LOCATION:Grillo-Theater
SUMMARY:Hamlet/Ophelia
DESCRIPTION:Grillo-Theater\nTheaterplatz 11 \n45127 Essen
CREATED:20260424T195230Z
DTEND:20241102T212000Z
END:VEVENT
END:VCALENDAR
