BEGIN:VCALENDAR
PRODID:-//spiritec//spiritec media library//EN
VERSION:2.0
METHOD:PUBLISH
BEGIN:VEVENT
UID:ical-2024-11-16-2463
DTSTART:20241116T183000Z
DTSTAMP:20260424T194925Z
LOCATION:Grillo-Theater
SUMMARY:Doktormutter Faust
DESCRIPTION:Grillo-Theater\nTheaterplatz 11 \n45127 Essen
CREATED:20260424T194925Z
DTEND:20241116T201000Z
END:VEVENT
END:VCALENDAR
