BEGIN:VCALENDAR
PRODID:-//spiritec//spiritec media library//EN
VERSION:2.0
METHOD:PUBLISH
BEGIN:VEVENT
UID:ical-2024-11-01-2465
DTSTART:20241101T180000Z
DTSTAMP:20260424T194923Z
LOCATION:Grillo-Theater
SUMMARY:Der Reisende
DESCRIPTION:Grillo-Theater\nTheaterplatz 11 \n45127 Essen
CREATED:20260424T194923Z
DTEND:20241101T205000Z
END:VEVENT
END:VCALENDAR
