BEGIN:VCALENDAR
PRODID:-//spiritec//spiritec media library//EN
VERSION:2.0
METHOD:PUBLISH
BEGIN:VEVENT
UID:ical-2024-11-08-2469
DTSTART:20241108T183000Z
DTSTAMP:20260424T195046Z
LOCATION:
SUMMARY:Der zerbrochene Krug
DESCRIPTION:
CREATED:20260424T195046Z
DTEND:20241108T225900Z
END:VEVENT
END:VCALENDAR
