BEGIN:VCALENDAR
PRODID:-//spiritec//spiritec media library//EN
VERSION:2.0
METHOD:PUBLISH
BEGIN:VEVENT
UID:ical-2024-11-28-2471
DTSTART:20241128T183000Z
DTSTAMP:20260424T194909Z
LOCATION:ADA
SUMMARY:Öffentliche Probe zu "Tabak"
DESCRIPTION:Die ADA befindet sich im Grillo-Theater.\n\nGrillo-Theater\nTheaterplatz 11 \n45127 Essen
CREATED:20260424T194909Z
DTEND:20241128T183000Z
END:VEVENT
END:VCALENDAR
