BEGIN:VCALENDAR
PRODID:-//spiritec//spiritec media library//EN
VERSION:2.0
METHOD:PUBLISH
BEGIN:VEVENT
UID:ical-2024-12-03-2483
DTSTART:20241203T190000Z
DTSTAMP:20260424T194908Z
LOCATION:Café Central
SUMMARY:Lesart
DESCRIPTION:Das Café Central befindet sich im Grillo-Theater.\n\nGrillo-Theater\nTheaterplatz 11 \n45127 Essen
CREATED:20260424T194908Z
DTEND:20241203T190000Z
END:VEVENT
END:VCALENDAR
