BEGIN:VCALENDAR
PRODID:-//spiritec//spiritec media library//EN
VERSION:2.0
METHOD:PUBLISH
BEGIN:VEVENT
UID:ical-2024-12-05-2485
DTSTART:20241205T183000Z
DTSTAMP:20260424T194923Z
LOCATION:Grillo-Theater
SUMMARY:Der Reisende
DESCRIPTION:Grillo-Theater\nTheaterplatz 11 \n45127 Essen
CREATED:20260424T194923Z
DTEND:20241205T212000Z
END:VEVENT
END:VCALENDAR
