BEGIN:VCALENDAR
PRODID:-//spiritec//spiritec media library//EN
VERSION:2.0
METHOD:PUBLISH
BEGIN:VEVENT
UID:ical-2024-12-07-2487
DTSTART:20241207T180000Z
DTSTAMP:20260424T194949Z
LOCATION:Grillo-Theater
SUMMARY:Doktormutter Faust
DESCRIPTION:Grillo-Theater\nTheaterplatz 11 \n45127 Essen
CREATED:20260424T194949Z
DTEND:20241207T194000Z
END:VEVENT
END:VCALENDAR
