BEGIN:VCALENDAR
PRODID:-//spiritec//spiritec media library//EN
VERSION:2.0
METHOD:PUBLISH
BEGIN:VEVENT
UID:ical-2024-12-29-2503
DTSTART:20241229T170000Z
DTSTAMP:20260424T195153Z
LOCATION:ADA
SUMMARY:Tabak
DESCRIPTION:Die ADA befindet sich im Grillo-Theater.\n\nGrillo-Theater\nTheaterplatz 11 \n45127 Essen
CREATED:20260424T195153Z
DTEND:20241229T183000Z
END:VEVENT
END:VCALENDAR
