BEGIN:VCALENDAR
PRODID:-//spiritec//spiritec media library//EN
VERSION:2.0
METHOD:PUBLISH
BEGIN:VEVENT
UID:ical-2024-12-30-2504
DTSTART:20241230T183000Z
DTSTAMP:20260424T195301Z
LOCATION:Grillo-Theater
SUMMARY:Hamlet/Ophelia
DESCRIPTION:Grillo-Theater\nTheaterplatz 11 \n45127 Essen
CREATED:20260424T195301Z
DTEND:20241230T212000Z
END:VEVENT
END:VCALENDAR
