BEGIN:VCALENDAR
PRODID:-//spiritec//spiritec media library//EN
VERSION:2.0
METHOD:PUBLISH
BEGIN:VEVENT
UID:ical-2024-12-06-2508
DTSTART:20241206T190000Z
DTSTAMP:20260424T195308Z
LOCATION:ADA
SUMMARY:Tabak
DESCRIPTION:Die ADA befindet sich im Grillo-Theater.\n\nGrillo-Theater\nTheaterplatz 11 \n45127 Essen
CREATED:20260424T195308Z
DTEND:20241206T203000Z
END:VEVENT
END:VCALENDAR
