BEGIN:VCALENDAR
PRODID:-//spiritec//spiritec media library//EN
VERSION:2.0
METHOD:PUBLISH
BEGIN:VEVENT
UID:ical-2024-12-28-2510
DTSTART:20241228T183000Z
DTSTAMP:20260424T195229Z
LOCATION:Grillo-Theater
SUMMARY:Der Reisende
DESCRIPTION:Grillo-Theater\nTheaterplatz 11 \n45127 Essen
CREATED:20260424T195229Z
DTEND:20241228T212000Z
END:VEVENT
END:VCALENDAR
