BEGIN:VCALENDAR
PRODID:-//spiritec//spiritec media library//EN
VERSION:2.0
METHOD:PUBLISH
BEGIN:VEVENT
UID:ical-2024-11-12-2513
DTSTART:20241112T160000Z
DTSTAMP:20260424T194924Z
LOCATION:Café Central
SUMMARY:Erinnerungsaustausch
DESCRIPTION:Das Café Central befindet sich im Grillo-Theater.\n\nGrillo-Theater\nTheaterplatz 11 \n45127 Essen
CREATED:20260424T194924Z
DTEND:20241112T225900Z
END:VEVENT
END:VCALENDAR
