BEGIN:VCALENDAR
PRODID:-//spiritec//spiritec media library//EN
VERSION:2.0
METHOD:PUBLISH
BEGIN:VEVENT
UID:ical-2025-01-10-2518
DTSTART:20250110T183000Z
DTSTAMP:20260424T195229Z
LOCATION:Grillo-Theater
SUMMARY:Der Reisende
DESCRIPTION:Grillo-Theater\nTheaterplatz 11 \n45127 Essen
CREATED:20260424T195229Z
DTEND:20250110T212000Z
END:VEVENT
END:VCALENDAR
