BEGIN:VCALENDAR
PRODID:-//spiritec//spiritec media library//EN
VERSION:2.0
METHOD:PUBLISH
BEGIN:VEVENT
UID:ical-2025-01-14-2523
DTSTART:20250114T190000Z
DTSTAMP:20260424T195230Z
LOCATION:ADA
SUMMARY:Tabak
DESCRIPTION:Die ADA befindet sich im Grillo-Theater.\n\nGrillo-Theater\nTheaterplatz 11 \n45127 Essen
CREATED:20260424T195230Z
DTEND:20250114T203000Z
END:VEVENT
END:VCALENDAR
