BEGIN:VCALENDAR
PRODID:-//spiritec//spiritec media library//EN
VERSION:2.0
METHOD:PUBLISH
BEGIN:VEVENT
UID:ical-2025-01-17-2526
DTSTART:20250117T183000Z
DTSTAMP:20260424T195229Z
LOCATION:Grillo-Theater
SUMMARY:Doktormutter Faust
DESCRIPTION:Grillo-Theater\nTheaterplatz 11 \n45127 Essen
CREATED:20260424T195229Z
DTEND:20250117T201000Z
END:VEVENT
END:VCALENDAR
