BEGIN:VCALENDAR
PRODID:-//spiritec//spiritec media library//EN
VERSION:2.0
METHOD:PUBLISH
BEGIN:VEVENT
UID:ical-2025-01-18-2527
DTSTART:20250118T183000Z
DTSTAMP:20260424T195302Z
LOCATION:Grillo-Theater
SUMMARY:Istanbul
DESCRIPTION:Grillo-Theater\nTheaterplatz 11 \n45127 Essen
CREATED:20260424T195302Z
DTEND:20250118T204000Z
END:VEVENT
END:VCALENDAR
