BEGIN:VCALENDAR
PRODID:-//spiritec//spiritec media library//EN
VERSION:2.0
METHOD:PUBLISH
BEGIN:VEVENT
UID:ical-2025-01-18-2528
DTSTART:20250118T190000Z
DTSTAMP:20260424T195117Z
LOCATION:ADA
SUMMARY:Showtime (ein enttäuschender Abend)
DESCRIPTION:Die ADA befindet sich im Grillo-Theater.\n\nGrillo-Theater\nTheaterplatz 11 \n45127 Essen
CREATED:20260424T195117Z
DTEND:20250118T201500Z
END:VEVENT
END:VCALENDAR
