BEGIN:VCALENDAR
PRODID:-//spiritec//spiritec media library//EN
VERSION:2.0
METHOD:PUBLISH
BEGIN:VEVENT
UID:ical-2025-01-19-2529
DTSTART:20250119T150000Z
DTSTAMP:20260424T195229Z
LOCATION:Grillo-Theater
SUMMARY:Istanbul
DESCRIPTION:Grillo-Theater\nTheaterplatz 11 \n45127 Essen
CREATED:20260424T195229Z
DTEND:20250119T171000Z
END:VEVENT
END:VCALENDAR
