BEGIN:VCALENDAR
PRODID:-//spiritec//spiritec media library//EN
VERSION:2.0
METHOD:PUBLISH
BEGIN:VEVENT
UID:ical-2025-03-23-2541
DTSTART:20250323T100000Z
DTSTAMP:20260424T194923Z
LOCATION:Aalto-Foyer
SUMMARY:Tatort Ehe – Clara und Robert Schumann
DESCRIPTION:Aalto-Theater\nOpernplatz 10\n45128 Essen
CREATED:20260424T194923Z
DTEND:20250323T100000Z
END:VEVENT
END:VCALENDAR
