BEGIN:VCALENDAR
PRODID:-//spiritec//spiritec media library//EN
VERSION:2.0
METHOD:PUBLISH
BEGIN:VEVENT
UID:ical-2025-02-04-2543
DTSTART:20250204T190000Z
DTSTAMP:20260424T195229Z
LOCATION:Café Central
SUMMARY:Lesart
DESCRIPTION:Das Café Central befindet sich im Grillo-Theater.\n\nGrillo-Theater\nTheaterplatz 11 \n45127 Essen
CREATED:20260424T195229Z
DTEND:20250204T190000Z
END:VEVENT
END:VCALENDAR
