BEGIN:VCALENDAR
PRODID:-//spiritec//spiritec media library//EN
VERSION:2.0
METHOD:PUBLISH
BEGIN:VEVENT
UID:ical-2025-02-10-2549
DTSTART:20250210T180000Z
DTSTAMP:20260424T194951Z
LOCATION:Maschinenhaus Essen
SUMMARY:Alles wie es sein soll
DESCRIPTION:Maschinenhaus Essen\nWilhelm-Nieswandt-Allee 100\n45326 Essen
CREATED:20260424T194951Z
DTEND:20250210T193000Z
END:VEVENT
END:VCALENDAR
