BEGIN:VCALENDAR
PRODID:-//spiritec//spiritec media library//EN
VERSION:2.0
METHOD:PUBLISH
BEGIN:VEVENT
UID:ical-2025-02-13-2551
DTSTART:20250213T183000Z
DTSTAMP:20260424T195301Z
LOCATION:Grillo-Theater
SUMMARY:Istanbul
DESCRIPTION:Grillo-Theater\nTheaterplatz 11 \n45127 Essen
CREATED:20260424T195301Z
DTEND:20250213T204000Z
END:VEVENT
END:VCALENDAR
