BEGIN:VCALENDAR
PRODID:-//spiritec//spiritec media library//EN
VERSION:2.0
METHOD:PUBLISH
BEGIN:VEVENT
UID:ical-2025-02-14-2552
DTSTART:20250214T183000Z
DTSTAMP:20260424T195119Z
LOCATION:Grillo-Theater
SUMMARY:Der Reisende
DESCRIPTION:Grillo-Theater\nTheaterplatz 11 \n45127 Essen
CREATED:20260424T195119Z
DTEND:20250214T212000Z
END:VEVENT
END:VCALENDAR
