BEGIN:VCALENDAR
PRODID:-//spiritec//spiritec media library//EN
VERSION:2.0
METHOD:PUBLISH
BEGIN:VEVENT
UID:ical-2025-02-22-2557
DTSTART:20250222T183000Z
DTSTAMP:20260424T195303Z
LOCATION:Grillo-Theater
SUMMARY:Alles wie es sein soll
DESCRIPTION:Grillo-Theater\nTheaterplatz 11 \n45127 Essen
CREATED:20260424T195303Z
DTEND:20250222T200000Z
END:VEVENT
END:VCALENDAR
