BEGIN:VCALENDAR
PRODID:-//spiritec//spiritec media library//EN
VERSION:2.0
METHOD:PUBLISH
BEGIN:VEVENT
UID:ical-2025-02-27-2563
DTSTART:20250227T183000Z
DTSTAMP:20260424T195113Z
LOCATION:Grillo-Theater
SUMMARY:Der Reisende
DESCRIPTION:Grillo-Theater\nTheaterplatz 11 \n45127 Essen
CREATED:20260424T195113Z
DTEND:20250227T212000Z
END:VEVENT
END:VCALENDAR
