BEGIN:VCALENDAR
PRODID:-//spiritec//spiritec media library//EN
VERSION:2.0
METHOD:PUBLISH
BEGIN:VEVENT
UID:ical-2025-02-28-2564
DTSTART:20250228T183000Z
DTSTAMP:20260424T195118Z
LOCATION:Grillo-Theater
SUMMARY:Istanbul
DESCRIPTION:Grillo-Theater\nTheaterplatz 11 \n45127 Essen
CREATED:20260424T195118Z
DTEND:20250228T204000Z
END:VEVENT
END:VCALENDAR
